BEGIN:VCALENDAR
VERSION:2.0
PRODID:-//The Young&#039;uns - ECPv6.15.20//NONSGML v1.0//EN
CALSCALE:GREGORIAN
METHOD:PUBLISH
X-WR-CALNAME:The Young&#039;uns
X-ORIGINAL-URL:https://theyounguns.com
X-WR-CALDESC:Events for The Young&#039;uns
REFRESH-INTERVAL;VALUE=DURATION:PT1H
X-Robots-Tag:noindex
X-PUBLISHED-TTL:PT1H
BEGIN:VTIMEZONE
TZID:America/Vancouver
BEGIN:DAYLIGHT
TZOFFSETFROM:-0800
TZOFFSETTO:-0700
TZNAME:PDT
DTSTART:20250309T100000
END:DAYLIGHT
BEGIN:STANDARD
TZOFFSETFROM:-0700
TZOFFSETTO:-0800
TZNAME:PST
DTSTART:20251102T090000
END:STANDARD
BEGIN:DAYLIGHT
TZOFFSETFROM:-0800
TZOFFSETTO:-0700
TZNAME:PDT
DTSTART:20260308T100000
END:DAYLIGHT
BEGIN:STANDARD
TZOFFSETFROM:-0700
TZOFFSETTO:-0800
TZNAME:PST
DTSTART:20261101T090000
END:STANDARD
BEGIN:DAYLIGHT
TZOFFSETFROM:-0800
TZOFFSETTO:-0700
TZNAME:PDT
DTSTART:20270314T100000
END:DAYLIGHT
BEGIN:STANDARD
TZOFFSETFROM:-0700
TZOFFSETTO:-0800
TZNAME:PST
DTSTART:20271107T090000
END:STANDARD
END:VTIMEZONE
BEGIN:VEVENT
DTSTART;VALUE=DATE:20261106
DTEND;VALUE=DATE:20261108
DTSTAMP:20260422T031552
CREATED:20250513T050638Z
LAST-MODIFIED:20250513T050638Z
UID:2771-1793923200-1794095999@theyounguns.com
SUMMARY:Poundsign - O'Flannigans
DESCRIPTION:
URL:https://theyounguns.com/event/poundsign-oflannigans-24/
LOCATION:O’Flannigan’s Pub\, 319 Queensway Ave.\, Kelowna\, BC\, V1Y 8E6\, Canada
END:VEVENT
BEGIN:VEVENT
DTSTART;VALUE=DATE:20261113
DTEND;VALUE=DATE:20261115
DTSTAMP:20260422T031552
CREATED:20250513T042419Z
LAST-MODIFIED:20250513T042419Z
UID:2759-1794528000-1794700799@theyounguns.com
SUMMARY:Whiski Jack's
DESCRIPTION:
URL:https://theyounguns.com/event/whiski-jacks-12/
LOCATION:Whiski Jack’s Pub
END:VEVENT
BEGIN:VEVENT
DTSTART;VALUE=DATE:20261127
DTEND;VALUE=DATE:20261129
DTSTAMP:20260422T031552
CREATED:20251208T212013Z
LAST-MODIFIED:20251208T212013Z
UID:2848-1795737600-1795910399@theyounguns.com
SUMMARY:The Blue Grotto
DESCRIPTION:
URL:https://theyounguns.com/event/the-blue-grotto-8/
LOCATION:BC
END:VEVENT
END:VCALENDAR