BEGIN:VCALENDAR
VERSION:2.0
PRODID:-//The Young&#039;uns - ECPv6.15.20//NONSGML v1.0//EN
CALSCALE:GREGORIAN
METHOD:PUBLISH
X-ORIGINAL-URL:https://theyounguns.com
X-WR-CALDESC:Events for The Young&#039;uns
REFRESH-INTERVAL;VALUE=DURATION:PT1H
X-Robots-Tag:noindex
X-PUBLISHED-TTL:PT1H
BEGIN:VTIMEZONE
TZID:America/Vancouver
BEGIN:DAYLIGHT
TZOFFSETFROM:-0800
TZOFFSETTO:-0700
TZNAME:PDT
DTSTART:20240310T100000
END:DAYLIGHT
BEGIN:STANDARD
TZOFFSETFROM:-0700
TZOFFSETTO:-0800
TZNAME:PST
DTSTART:20241103T090000
END:STANDARD
BEGIN:DAYLIGHT
TZOFFSETFROM:-0800
TZOFFSETTO:-0700
TZNAME:PDT
DTSTART:20250309T100000
END:DAYLIGHT
BEGIN:STANDARD
TZOFFSETFROM:-0700
TZOFFSETTO:-0800
TZNAME:PST
DTSTART:20251102T090000
END:STANDARD
BEGIN:DAYLIGHT
TZOFFSETFROM:-0800
TZOFFSETTO:-0700
TZNAME:PDT
DTSTART:20260308T100000
END:DAYLIGHT
BEGIN:STANDARD
TZOFFSETFROM:-0700
TZOFFSETTO:-0800
TZNAME:PST
DTSTART:20261101T090000
END:STANDARD
END:VTIMEZONE
BEGIN:VEVENT
DTSTART;TZID=America/Vancouver:20250905T080000
DTEND;TZID=America/Vancouver:20250906T170000
DTSTAMP:20260422T031933
CREATED:20250313T191955Z
LAST-MODIFIED:20250313T191955Z
UID:2713-1757059200-1757178000@theyounguns.com
SUMMARY:The Hub
DESCRIPTION:
URL:https://theyounguns.com/event/the-hub-14/
LOCATION:The Hub on Martin\, 260 Martin St\,\, Penticton\, BC\, British Columbia\, V2A 5K3\, Canada
END:VEVENT
BEGIN:VEVENT
DTSTART;VALUE=DATE:20250912
DTEND;VALUE=DATE:20250914
DTSTAMP:20260422T031933
CREATED:20250211T212528Z
LAST-MODIFIED:20250211T212528Z
UID:2689-1757635200-1757807999@theyounguns.com
SUMMARY:The Blue Grotto
DESCRIPTION:
URL:https://theyounguns.com/event/the-blue-grotto-6/
LOCATION:The Blue Grotto\, 319 Victoria St.\, Kamloops\, BC\, Canada
END:VEVENT
BEGIN:VEVENT
DTSTART;TZID=America/Vancouver:20250913T173000
DTEND;TZID=America/Vancouver:20250913T190000
DTSTAMP:20260422T031933
CREATED:20250211T212155Z
LAST-MODIFIED:20250211T212155Z
UID:2685-1757784600-1757790000@theyounguns.com
SUMMARY:Shuswap Brewers Festival
DESCRIPTION:
URL:https://theyounguns.com/event/shuswap-brewers-festival/
LOCATION:BC
END:VEVENT
BEGIN:VEVENT
DTSTART;VALUE=DATE:20250919
DTEND;VALUE=DATE:20250921
DTSTAMP:20260422T031933
CREATED:20240705T065215Z
LAST-MODIFIED:20250116T004631Z
UID:2591-1758240000-1758412799@theyounguns.com
SUMMARY:FFF - O'Flannigans
DESCRIPTION:
URL:https://theyounguns.com/event/poundsign-oflannigans-17/
LOCATION:O’Flannigan’s Pub\, 319 Queensway Ave.\, Kelowna\, BC\, V1Y 8E6\, Canada
END:VEVENT
END:VCALENDAR