BEGIN:VCALENDAR
VERSION:2.0
PRODID:-//The Young&#039;uns - ECPv6.15.20//NONSGML v1.0//EN
CALSCALE:GREGORIAN
METHOD:PUBLISH
X-ORIGINAL-URL:https://theyounguns.com
X-WR-CALDESC:Events for The Young&#039;uns
REFRESH-INTERVAL;VALUE=DURATION:PT1H
X-Robots-Tag:noindex
X-PUBLISHED-TTL:PT1H
BEGIN:VTIMEZONE
TZID:America/Vancouver
BEGIN:DAYLIGHT
TZOFFSETFROM:-0800
TZOFFSETTO:-0700
TZNAME:PDT
DTSTART:20230312T100000
END:DAYLIGHT
BEGIN:STANDARD
TZOFFSETFROM:-0700
TZOFFSETTO:-0800
TZNAME:PST
DTSTART:20231105T090000
END:STANDARD
BEGIN:DAYLIGHT
TZOFFSETFROM:-0800
TZOFFSETTO:-0700
TZNAME:PDT
DTSTART:20240310T100000
END:DAYLIGHT
BEGIN:STANDARD
TZOFFSETFROM:-0700
TZOFFSETTO:-0800
TZNAME:PST
DTSTART:20241103T090000
END:STANDARD
BEGIN:DAYLIGHT
TZOFFSETFROM:-0800
TZOFFSETTO:-0700
TZNAME:PDT
DTSTART:20250309T100000
END:DAYLIGHT
BEGIN:STANDARD
TZOFFSETFROM:-0700
TZOFFSETTO:-0800
TZNAME:PST
DTSTART:20251102T090000
END:STANDARD
END:VTIMEZONE
BEGIN:VEVENT
DTSTART;TZID=America/Vancouver:20240705T200000
DTEND;TZID=America/Vancouver:20240705T230000
DTSTAMP:20260422T014505
CREATED:20230929T190238Z
LAST-MODIFIED:20230929T190238Z
UID:2476-1720209600-1720220400@theyounguns.com
SUMMARY:Tim Single - The Cantina
DESCRIPTION:
URL:https://theyounguns.com/event/tim-single-the-cantina/
LOCATION:BC
END:VEVENT
BEGIN:VEVENT
DTSTART;TZID=America/Vancouver:20240706T080000
DTEND;TZID=America/Vancouver:20240706T170000
DTSTAMP:20260422T014505
CREATED:20240607T202703Z
LAST-MODIFIED:20240607T202703Z
UID:2565-1720252800-1720285200@theyounguns.com
SUMMARY:Tim Filling in with Mama Wheely! (Private)
DESCRIPTION:
URL:https://theyounguns.com/event/tim-filling-in-with-mama-wheely-private/
LOCATION:BC
END:VEVENT
BEGIN:VEVENT
DTSTART;VALUE=DATE:20240712
DTEND;VALUE=DATE:20240714
DTSTAMP:20260422T014505
CREATED:20240118T202406Z
LAST-MODIFIED:20240118T202406Z
UID:2521-1720742400-1720915199@theyounguns.com
SUMMARY:The Hub
DESCRIPTION:
URL:https://theyounguns.com/event/the-hub-3/
LOCATION:The Hub on Martin\, 260 Martin St\,\, Penticton\, BC\, British Columbia\, V2A 5K3\, Canada
END:VEVENT
BEGIN:VEVENT
DTSTART;VALUE=DATE:20240712
DTEND;VALUE=DATE:20240714
DTSTAMP:20260422T014505
CREATED:20240725T210759Z
LAST-MODIFIED:20240725T210759Z
UID:2627-1720742400-1720915199@theyounguns.com
SUMMARY:FFF - The Hub
DESCRIPTION:
URL:https://theyounguns.com/event/fff-the-hub-3/
LOCATION:The Hub on Martin\, 260 Martin St\,\, Penticton\, BC\, British Columbia\, V2A 5K3\, Canada
END:VEVENT
BEGIN:VEVENT
DTSTART;TZID=America/Vancouver:20240718T180000
DTEND;TZID=America/Vancouver:20240718T193000
DTSTAMP:20260422T014505
CREATED:20240205T203247Z
LAST-MODIFIED:20240205T203247Z
UID:2537-1721325600-1721331000@theyounguns.com
SUMMARY:Downtown Sounds Vernon
DESCRIPTION:
URL:https://theyounguns.com/event/downtown-sounds-vernon-2/
LOCATION:BC
END:VEVENT
BEGIN:VEVENT
DTSTART;VALUE=DATE:20240720
DTEND;VALUE=DATE:20240721
DTSTAMP:20260422T014505
CREATED:20230923T211010Z
LAST-MODIFIED:20231120T213021Z
UID:2466-1721433600-1721519999@theyounguns.com
SUMMARY:Private Wedding
DESCRIPTION:Whatsan Lake Wedding
URL:https://theyounguns.com/event/oflannigans-9/
LOCATION:O’Flannigan’s Pub\, 319 Queensway Ave.\, Kelowna\, BC\, V1Y 8E6\, Canada
END:VEVENT
BEGIN:VEVENT
DTSTART;VALUE=DATE:20240726
DTEND;VALUE=DATE:20240727
DTSTAMP:20260422T014505
CREATED:20240607T202725Z
LAST-MODIFIED:20240607T202725Z
UID:2567-1721952000-1722038399@theyounguns.com
SUMMARY:Polson Park
DESCRIPTION:
URL:https://theyounguns.com/event/polson-park/
LOCATION:BC
END:VEVENT
BEGIN:VEVENT
DTSTART;VALUE=DATE:20240727
DTEND;VALUE=DATE:20240728
DTSTAMP:20260422T014505
CREATED:20240411T204113Z
LAST-MODIFIED:20240411T204113Z
UID:2557-1722038400-1722124799@theyounguns.com
SUMMARY:Break (Family Wedding)
DESCRIPTION:
URL:https://theyounguns.com/event/break-family-wedding/
LOCATION:BC
END:VEVENT
END:VCALENDAR