BEGIN:VCALENDAR
VERSION:2.0
PRODID:-//The Young&#039;uns - ECPv6.15.20//NONSGML v1.0//EN
CALSCALE:GREGORIAN
METHOD:PUBLISH
X-WR-CALNAME:The Young&#039;uns
X-ORIGINAL-URL:https://theyounguns.com
X-WR-CALDESC:Events for The Young&#039;uns
REFRESH-INTERVAL;VALUE=DURATION:PT1H
X-Robots-Tag:noindex
X-PUBLISHED-TTL:PT1H
BEGIN:VTIMEZONE
TZID:America/Vancouver
BEGIN:DAYLIGHT
TZOFFSETFROM:-0800
TZOFFSETTO:-0700
TZNAME:PDT
DTSTART:20230312T100000
END:DAYLIGHT
BEGIN:STANDARD
TZOFFSETFROM:-0700
TZOFFSETTO:-0800
TZNAME:PST
DTSTART:20231105T090000
END:STANDARD
BEGIN:DAYLIGHT
TZOFFSETFROM:-0800
TZOFFSETTO:-0700
TZNAME:PDT
DTSTART:20240310T100000
END:DAYLIGHT
BEGIN:STANDARD
TZOFFSETFROM:-0700
TZOFFSETTO:-0800
TZNAME:PST
DTSTART:20241103T090000
END:STANDARD
BEGIN:DAYLIGHT
TZOFFSETFROM:-0800
TZOFFSETTO:-0700
TZNAME:PDT
DTSTART:20250309T100000
END:DAYLIGHT
BEGIN:STANDARD
TZOFFSETFROM:-0700
TZOFFSETTO:-0800
TZNAME:PST
DTSTART:20251102T090000
END:STANDARD
END:VTIMEZONE
BEGIN:VEVENT
DTSTART;VALUE=DATE:20240503
DTEND;VALUE=DATE:20240505
DTSTAMP:20260422T044453
CREATED:20230923T204151Z
LAST-MODIFIED:20230923T211714Z
UID:2462-1714694400-1714867199@theyounguns.com
SUMMARY:#Poundsign - O'Flannigans
DESCRIPTION:
URL:https://theyounguns.com/event/fff-oflannigans-3/
LOCATION:O’Flannigan’s Pub\, 319 Queensway Ave.\, Kelowna\, BC\, V1Y 8E6\, Canada
END:VEVENT
BEGIN:VEVENT
DTSTART;TZID=America/Vancouver:20240506T080000
DTEND;TZID=America/Vancouver:20240515T170000
DTSTAMP:20260422T044453
CREATED:20240119T203344Z
LAST-MODIFIED:20240119T203344Z
UID:2531-1714982400-1715792400@theyounguns.com
SUMMARY:BREAK
DESCRIPTION:
URL:https://theyounguns.com/event/break-2/
LOCATION:BC
END:VEVENT
BEGIN:VEVENT
DTSTART;VALUE=DATE:20240517
DTEND;VALUE=DATE:20240518
DTSTAMP:20260422T044453
CREATED:20240119T203251Z
LAST-MODIFIED:20240507T063835Z
UID:2529-1715904000-1715990399@theyounguns.com
SUMMARY:The Hub
DESCRIPTION:
URL:https://theyounguns.com/event/the-hub-7/
LOCATION:The Hub on Martin\, 260 Martin St\,\, Penticton\, BC\, British Columbia\, V2A 5K3\, Canada
END:VEVENT
BEGIN:VEVENT
DTSTART;VALUE=DATE:20240524
DTEND;VALUE=DATE:20240526
DTSTAMP:20260422T044453
CREATED:20231023T220251Z
LAST-MODIFIED:20240507T063956Z
UID:2497-1716508800-1716681599@theyounguns.com
SUMMARY:Matt\, Tim & Shane -  The Hub
DESCRIPTION:
URL:https://theyounguns.com/event/fff-the-hub-2/
LOCATION:The Hub on Martin\, 260 Martin St\,\, Penticton\, BC\, British Columbia\, V2A 5K3\, Canada
END:VEVENT
BEGIN:VEVENT
DTSTART;VALUE=DATE:20240531
DTEND;VALUE=DATE:20240602
DTSTAMP:20260422T044453
CREATED:20240118T202910Z
LAST-MODIFIED:20240118T202910Z
UID:2523-1717113600-1717286399@theyounguns.com
SUMMARY:The  Blue Gator
DESCRIPTION:
URL:https://theyounguns.com/event/the-blue-gator-9/
LOCATION:The Blue Gator\, 441 Lawrence Ave.\, Kelowna\, BC\, V1Y 6L5\, Canada
END:VEVENT
END:VCALENDAR