BEGIN:VCALENDAR
VERSION:2.0
PRODID:-//The Young&#039;uns - ECPv6.15.20//NONSGML v1.0//EN
CALSCALE:GREGORIAN
METHOD:PUBLISH
X-WR-CALNAME:The Young&#039;uns
X-ORIGINAL-URL:https://theyounguns.com
X-WR-CALDESC:Events for The Young&#039;uns
REFRESH-INTERVAL;VALUE=DURATION:PT1H
X-Robots-Tag:noindex
X-PUBLISHED-TTL:PT1H
BEGIN:VTIMEZONE
TZID:America/Vancouver
BEGIN:DAYLIGHT
TZOFFSETFROM:-0800
TZOFFSETTO:-0700
TZNAME:PDT
DTSTART:20230312T100000
END:DAYLIGHT
BEGIN:STANDARD
TZOFFSETFROM:-0700
TZOFFSETTO:-0800
TZNAME:PST
DTSTART:20231105T090000
END:STANDARD
BEGIN:DAYLIGHT
TZOFFSETFROM:-0800
TZOFFSETTO:-0700
TZNAME:PDT
DTSTART:20240310T100000
END:DAYLIGHT
BEGIN:STANDARD
TZOFFSETFROM:-0700
TZOFFSETTO:-0800
TZNAME:PST
DTSTART:20241103T090000
END:STANDARD
BEGIN:DAYLIGHT
TZOFFSETFROM:-0800
TZOFFSETTO:-0700
TZNAME:PDT
DTSTART:20250309T100000
END:DAYLIGHT
BEGIN:STANDARD
TZOFFSETFROM:-0700
TZOFFSETTO:-0800
TZNAME:PST
DTSTART:20251102T090000
END:STANDARD
END:VTIMEZONE
BEGIN:VEVENT
DTSTART;VALUE=DATE:20240405
DTEND;VALUE=DATE:20240407
DTSTAMP:20260422T061436
CREATED:20231023T210202Z
LAST-MODIFIED:20231023T210202Z
UID:2493-1712275200-1712447999@theyounguns.com
SUMMARY:The Hub
DESCRIPTION:
URL:https://theyounguns.com/event/the-hub-4/
LOCATION:The Hub on Martin\, 260 Martin St\,\, Penticton\, BC\, British Columbia\, V2A 5K3\, Canada
END:VEVENT
BEGIN:VEVENT
DTSTART;VALUE=DATE:20240412
DTEND;VALUE=DATE:20240414
DTSTAMP:20260422T061436
CREATED:20230923T203112Z
LAST-MODIFIED:20230923T203300Z
UID:2450-1712880000-1713052799@theyounguns.com
SUMMARY:O'Flannigans
DESCRIPTION:
URL:https://theyounguns.com/event/poundsign-oflannigans-7/
LOCATION:O’Flannigan’s Pub\, 319 Queensway Ave.\, Kelowna\, BC\, V1Y 8E6\, Canada
END:VEVENT
BEGIN:VEVENT
DTSTART;VALUE=DATE:20240419
DTEND;VALUE=DATE:20240421
DTSTAMP:20260422T061436
CREATED:20231023T211435Z
LAST-MODIFIED:20231023T211435Z
UID:2495-1713484800-1713657599@theyounguns.com
SUMMARY:The Blue Gator
DESCRIPTION:
URL:https://theyounguns.com/event/the-blue-gator-8/
LOCATION:The Blue Gator\, 441 Lawrence Ave.\, Kelowna\, BC\, V1Y 6L5\, Canada
END:VEVENT
BEGIN:VEVENT
DTSTART;VALUE=DATE:20240426
DTEND;VALUE=DATE:20240428
DTSTAMP:20260422T061436
CREATED:20231022T202632Z
LAST-MODIFIED:20231022T202632Z
UID:2484-1714089600-1714262399@theyounguns.com
SUMMARY:The Blue Grotto
DESCRIPTION:
URL:https://theyounguns.com/event/the-blue-grotto-5/
LOCATION:The Blue Grotto\, 319 Victoria St.\, Kamloops\, BC\, Canada
END:VEVENT
END:VCALENDAR