BEGIN:VCALENDAR
VERSION:2.0
PRODID:-//The Young&#039;uns - ECPv6.15.20//NONSGML v1.0//EN
CALSCALE:GREGORIAN
METHOD:PUBLISH
X-WR-CALNAME:The Young&#039;uns
X-ORIGINAL-URL:https://theyounguns.com
X-WR-CALDESC:Events for The Young&#039;uns
REFRESH-INTERVAL;VALUE=DURATION:PT1H
X-Robots-Tag:noindex
X-PUBLISHED-TTL:PT1H
BEGIN:VTIMEZONE
TZID:America/Vancouver
BEGIN:DAYLIGHT
TZOFFSETFROM:-0800
TZOFFSETTO:-0700
TZNAME:PDT
DTSTART:20230312T100000
END:DAYLIGHT
BEGIN:STANDARD
TZOFFSETFROM:-0700
TZOFFSETTO:-0800
TZNAME:PST
DTSTART:20231105T090000
END:STANDARD
BEGIN:DAYLIGHT
TZOFFSETFROM:-0800
TZOFFSETTO:-0700
TZNAME:PDT
DTSTART:20240310T100000
END:DAYLIGHT
BEGIN:STANDARD
TZOFFSETFROM:-0700
TZOFFSETTO:-0800
TZNAME:PST
DTSTART:20241103T090000
END:STANDARD
BEGIN:DAYLIGHT
TZOFFSETFROM:-0800
TZOFFSETTO:-0700
TZNAME:PDT
DTSTART:20250309T100000
END:DAYLIGHT
BEGIN:STANDARD
TZOFFSETFROM:-0700
TZOFFSETTO:-0800
TZNAME:PST
DTSTART:20251102T090000
END:STANDARD
END:VTIMEZONE
BEGIN:VEVENT
DTSTART;VALUE=DATE:20240202
DTEND;VALUE=DATE:20240204
DTSTAMP:20260422T093503
CREATED:20230727T203114Z
LAST-MODIFIED:20230727T203114Z
UID:2421-1706832000-1707004799@theyounguns.com
SUMMARY:The Hub
DESCRIPTION:
URL:https://theyounguns.com/event/the-hub-2/
LOCATION:The Hub on Martin\, 260 Martin St\,\, Penticton\, BC\, British Columbia\, V2A 5K3\, Canada
END:VEVENT
BEGIN:VEVENT
DTSTART;VALUE=DATE:20240209
DTEND;VALUE=DATE:20240211
DTSTAMP:20260422T093503
CREATED:20231120T213259Z
LAST-MODIFIED:20231120T213259Z
UID:2511-1707436800-1707609599@theyounguns.com
SUMMARY:Poundsign - The Blue Grotto
DESCRIPTION:
URL:https://theyounguns.com/event/poundsign-the-blue-grotto-4/
LOCATION:The Blue Grotto\, 319 Victoria St.\, Kamloops\, BC\, Canada
END:VEVENT
BEGIN:VEVENT
DTSTART;VALUE=DATE:20240216
DTEND;VALUE=DATE:20240218
DTSTAMP:20260422T093503
CREATED:20230727T212523Z
LAST-MODIFIED:20230727T212523Z
UID:2436-1708041600-1708214399@theyounguns.com
SUMMARY:O’Flannigan’s
DESCRIPTION:
URL:https://theyounguns.com/event/oflannigans-4/
LOCATION:BC
END:VEVENT
BEGIN:VEVENT
DTSTART;VALUE=DATE:20240223
DTEND;VALUE=DATE:20240225
DTSTAMP:20260422T093503
CREATED:20230727T203415Z
LAST-MODIFIED:20230727T203415Z
UID:2428-1708646400-1708819199@theyounguns.com
SUMMARY:The Blue Gator
DESCRIPTION:
URL:https://theyounguns.com/event/the-blue-gator-6/
LOCATION:BC
END:VEVENT
END:VCALENDAR