BEGIN:VCALENDAR
VERSION:2.0
PRODID:-//The Young&#039;uns - ECPv6.15.20//NONSGML v1.0//EN
CALSCALE:GREGORIAN
METHOD:PUBLISH
X-WR-CALNAME:The Young&#039;uns
X-ORIGINAL-URL:https://theyounguns.com
X-WR-CALDESC:Events for The Young&#039;uns
REFRESH-INTERVAL;VALUE=DURATION:PT1H
X-Robots-Tag:noindex
X-PUBLISHED-TTL:PT1H
BEGIN:VTIMEZONE
TZID:America/Vancouver
BEGIN:DAYLIGHT
TZOFFSETFROM:-0800
TZOFFSETTO:-0700
TZNAME:PDT
DTSTART:20230312T100000
END:DAYLIGHT
BEGIN:STANDARD
TZOFFSETFROM:-0700
TZOFFSETTO:-0800
TZNAME:PST
DTSTART:20231105T090000
END:STANDARD
BEGIN:DAYLIGHT
TZOFFSETFROM:-0800
TZOFFSETTO:-0700
TZNAME:PDT
DTSTART:20240310T100000
END:DAYLIGHT
BEGIN:STANDARD
TZOFFSETFROM:-0700
TZOFFSETTO:-0800
TZNAME:PST
DTSTART:20241103T090000
END:STANDARD
BEGIN:DAYLIGHT
TZOFFSETFROM:-0800
TZOFFSETTO:-0700
TZNAME:PDT
DTSTART:20250309T100000
END:DAYLIGHT
BEGIN:STANDARD
TZOFFSETFROM:-0700
TZOFFSETTO:-0800
TZNAME:PST
DTSTART:20251102T090000
END:STANDARD
END:VTIMEZONE
BEGIN:VEVENT
DTSTART;VALUE=DATE:20240112
DTEND;VALUE=DATE:20240114
DTSTAMP:20260422T111001
CREATED:20230727T212439Z
LAST-MODIFIED:20230727T212439Z
UID:2434-1705017600-1705190399@theyounguns.com
SUMMARY:#Poundsign - O’Flannigan’s
DESCRIPTION:
URL:https://theyounguns.com/event/poundsign-oflannigans-6/
LOCATION:BC
END:VEVENT
BEGIN:VEVENT
DTSTART;TZID=America/Vancouver:20240119T200000
DTEND;TZID=America/Vancouver:20240120T230000
DTSTAMP:20260422T111001
CREATED:20230727T203222Z
LAST-MODIFIED:20230727T203222Z
UID:2424-1705694400-1705791600@theyounguns.com
SUMMARY:Whiski Jack's
DESCRIPTION:
URL:https://theyounguns.com/event/whiski-jacks-3/
LOCATION:Whiski Jack’s Pub
END:VEVENT
BEGIN:VEVENT
DTSTART;TZID=America/Vancouver:20240126T210000
DTEND;TZID=America/Vancouver:20240127T235900
DTSTAMP:20260422T111001
CREATED:20230727T202959Z
LAST-MODIFIED:20230727T202959Z
UID:2419-1706302800-1706399940@theyounguns.com
SUMMARY:#Poundsign -The Blue Gator
DESCRIPTION:
URL:https://theyounguns.com/event/poundsign-the-blue-gator-4/
LOCATION:The Blue Gator\, 441 Lawrence Ave.\, Kelowna\, BC\, V1Y 6L5\, Canada
END:VEVENT
END:VCALENDAR