BEGIN:VCALENDAR
VERSION:2.0
PRODID:-//The Young&#039;uns - ECPv6.15.20//NONSGML v1.0//EN
CALSCALE:GREGORIAN
METHOD:PUBLISH
X-WR-CALNAME:The Young&#039;uns
X-ORIGINAL-URL:https://theyounguns.com
X-WR-CALDESC:Events for The Young&#039;uns
REFRESH-INTERVAL;VALUE=DURATION:PT1H
X-Robots-Tag:noindex
X-PUBLISHED-TTL:PT1H
BEGIN:VTIMEZONE
TZID:America/Vancouver
BEGIN:DAYLIGHT
TZOFFSETFROM:-0800
TZOFFSETTO:-0700
TZNAME:PDT
DTSTART:20220313T100000
END:DAYLIGHT
BEGIN:STANDARD
TZOFFSETFROM:-0700
TZOFFSETTO:-0800
TZNAME:PST
DTSTART:20221106T090000
END:STANDARD
BEGIN:DAYLIGHT
TZOFFSETFROM:-0800
TZOFFSETTO:-0700
TZNAME:PDT
DTSTART:20230312T100000
END:DAYLIGHT
BEGIN:STANDARD
TZOFFSETFROM:-0700
TZOFFSETTO:-0800
TZNAME:PST
DTSTART:20231105T090000
END:STANDARD
BEGIN:DAYLIGHT
TZOFFSETFROM:-0800
TZOFFSETTO:-0700
TZNAME:PDT
DTSTART:20240310T100000
END:DAYLIGHT
BEGIN:STANDARD
TZOFFSETFROM:-0700
TZOFFSETTO:-0800
TZNAME:PST
DTSTART:20241103T090000
END:STANDARD
END:VTIMEZONE
BEGIN:VEVENT
DTSTART;VALUE=DATE:20231202
DTEND;VALUE=DATE:20231203
DTSTAMP:20260422T122809
CREATED:20231120T212755Z
LAST-MODIFIED:20231120T212755Z
UID:2504-1701475200-1701561599@theyounguns.com
SUMMARY:Private Party
DESCRIPTION:Lakeshore Resort Penticton
URL:https://theyounguns.com/event/private-party-3/
LOCATION:BC
END:VEVENT
BEGIN:VEVENT
DTSTART;VALUE=DATE:20231208
DTEND;VALUE=DATE:20231209
DTSTAMP:20260422T122809
CREATED:20230929T190440Z
LAST-MODIFIED:20230929T190517Z
UID:2480-1701993600-1702079999@theyounguns.com
SUMMARY:Private Party
DESCRIPTION:Capri – Sage Real Estate
URL:https://theyounguns.com/event/prvate-christmas-partyy/
LOCATION:BC
END:VEVENT
BEGIN:VEVENT
DTSTART;VALUE=DATE:20231209
DTEND;VALUE=DATE:20231210
DTSTAMP:20260422T122809
CREATED:20231120T212854Z
LAST-MODIFIED:20231120T212854Z
UID:2506-1702080000-1702166399@theyounguns.com
SUMMARY:Private Party
DESCRIPTION:Shoreline Brewing Penticton
URL:https://theyounguns.com/event/private-party-4/
LOCATION:BC
END:VEVENT
BEGIN:VEVENT
DTSTART;VALUE=DATE:20231215
DTEND;VALUE=DATE:20231216
DTSTAMP:20260422T122809
CREATED:20230906T193440Z
LAST-MODIFIED:20230906T193440Z
UID:2446-1702598400-1702684799@theyounguns.com
SUMMARY:Private Party
DESCRIPTION:Vernon Golf and Country Club
URL:https://theyounguns.com/event/private-party/
LOCATION:BC
END:VEVENT
BEGIN:VEVENT
DTSTART;VALUE=DATE:20231216
DTEND;VALUE=DATE:20231217
DTSTAMP:20260422T122809
CREATED:20231022T202910Z
LAST-MODIFIED:20231121T203749Z
UID:2488-1702684800-1702771199@theyounguns.com
SUMMARY:The Hub on Martin
DESCRIPTION:
URL:https://theyounguns.com/event/the-blue-gator-7/
LOCATION:The Hub on Martin\, 260 Martin St\,\, Penticton\, BC\, British Columbia\, V2A 5K3\, Canada
END:VEVENT
BEGIN:VEVENT
DTSTART;VALUE=DATE:20231222
DTEND;VALUE=DATE:20231224
DTSTAMP:20260422T122809
CREATED:20230207T224146Z
LAST-MODIFIED:20231022T202949Z
UID:2336-1703203200-1703375999@theyounguns.com
SUMMARY:FFF - O'Flannigans
DESCRIPTION:
URL:https://theyounguns.com/event/poundsign-oflannigans-5/
LOCATION:BC
END:VEVENT
BEGIN:VEVENT
DTSTART;VALUE=DATE:20231229
DTEND;VALUE=DATE:20231231
DTSTAMP:20260422T122809
CREATED:20231023T220808Z
LAST-MODIFIED:20231023T220808Z
UID:2501-1703808000-1703980799@theyounguns.com
SUMMARY:The Hub
DESCRIPTION:
URL:https://theyounguns.com/event/the-hub-6/
LOCATION:BC
END:VEVENT
BEGIN:VEVENT
DTSTART;TZID=America/Vancouver:20231231T080000
DTEND;TZID=America/Vancouver:20231231T170000
DTSTAMP:20260422T122809
CREATED:20230727T212735Z
LAST-MODIFIED:20230727T212735Z
UID:2440-1704009600-1704042000@theyounguns.com
SUMMARY:New Years @ Vernon Lodge
DESCRIPTION:
URL:https://theyounguns.com/event/new-years-vernon-lodge/
LOCATION:BC
END:VEVENT
END:VCALENDAR