BEGIN:VCALENDAR
VERSION:2.0
PRODID:-//The Young&#039;uns - ECPv6.15.20//NONSGML v1.0//EN
CALSCALE:GREGORIAN
METHOD:PUBLISH
X-ORIGINAL-URL:https://theyounguns.com
X-WR-CALDESC:Events for The Young&#039;uns
REFRESH-INTERVAL;VALUE=DURATION:PT1H
X-Robots-Tag:noindex
X-PUBLISHED-TTL:PT1H
BEGIN:VTIMEZONE
TZID:America/Vancouver
BEGIN:DAYLIGHT
TZOFFSETFROM:-0800
TZOFFSETTO:-0700
TZNAME:PDT
DTSTART:20220313T100000
END:DAYLIGHT
BEGIN:STANDARD
TZOFFSETFROM:-0700
TZOFFSETTO:-0800
TZNAME:PST
DTSTART:20221106T090000
END:STANDARD
BEGIN:DAYLIGHT
TZOFFSETFROM:-0800
TZOFFSETTO:-0700
TZNAME:PDT
DTSTART:20230312T100000
END:DAYLIGHT
BEGIN:STANDARD
TZOFFSETFROM:-0700
TZOFFSETTO:-0800
TZNAME:PST
DTSTART:20231105T090000
END:STANDARD
BEGIN:DAYLIGHT
TZOFFSETFROM:-0800
TZOFFSETTO:-0700
TZNAME:PDT
DTSTART:20240310T100000
END:DAYLIGHT
BEGIN:STANDARD
TZOFFSETFROM:-0700
TZOFFSETTO:-0800
TZNAME:PST
DTSTART:20241103T090000
END:STANDARD
END:VTIMEZONE
BEGIN:VEVENT
DTSTART;VALUE=DATE:20231103
DTEND;VALUE=DATE:20231105
DTSTAMP:20260422T135453
CREATED:20230207T224036Z
LAST-MODIFIED:20230207T224036Z
UID:2332-1698969600-1699142399@theyounguns.com
SUMMARY:Poundsign - O'Flannigans
DESCRIPTION:
URL:https://theyounguns.com/event/poundsign-oflannigans-4/
LOCATION:O’Flannigan’s Pub\, 319 Queensway Ave.\, Kelowna\, BC\, V1Y 8E6\, Canada
END:VEVENT
BEGIN:VEVENT
DTSTART;VALUE=DATE:20231110
DTEND;VALUE=DATE:20231112
DTSTAMP:20260422T135453
CREATED:20230216T201129Z
LAST-MODIFIED:20230505T210955Z
UID:2343-1699574400-1699747199@theyounguns.com
SUMMARY:The Hub on Martin
DESCRIPTION:
URL:https://theyounguns.com/event/the-blue-gator-5/
LOCATION:BC
END:VEVENT
BEGIN:VEVENT
DTSTART;VALUE=DATE:20231117
DTEND;VALUE=DATE:20231119
DTSTAMP:20260422T135453
CREATED:20230216T220857Z
LAST-MODIFIED:20230216T220857Z
UID:2349-1700179200-1700351999@theyounguns.com
SUMMARY:#Poundsign - The Blue Grotto
DESCRIPTION:
URL:https://theyounguns.com/event/poundsign-the-blue-grotto-2/
LOCATION:The Blue Grotto\, 319 Victoria St.\, Kamloops\, BC\, Canada
END:VEVENT
BEGIN:VEVENT
DTSTART;VALUE=DATE:20231124
DTEND;VALUE=DATE:20231126
DTSTAMP:20260422T135453
CREATED:20230207T224109Z
LAST-MODIFIED:20230207T224109Z
UID:2334-1700784000-1700956799@theyounguns.com
SUMMARY:O'Flannigans
DESCRIPTION:
URL:https://theyounguns.com/event/oflannigans-3/
LOCATION:O’Flannigan’s Pub\, 319 Queensway Ave.\, Kelowna\, BC\, V1Y 8E6\, Canada
END:VEVENT
END:VCALENDAR