BEGIN:VCALENDAR
VERSION:2.0
PRODID:-//The Young&#039;uns - ECPv6.15.20//NONSGML v1.0//EN
CALSCALE:GREGORIAN
METHOD:PUBLISH
X-ORIGINAL-URL:https://theyounguns.com
X-WR-CALDESC:Events for The Young&#039;uns
REFRESH-INTERVAL;VALUE=DURATION:PT1H
X-Robots-Tag:noindex
X-PUBLISHED-TTL:PT1H
BEGIN:VTIMEZONE
TZID:America/Vancouver
BEGIN:DAYLIGHT
TZOFFSETFROM:-0800
TZOFFSETTO:-0700
TZNAME:PDT
DTSTART:20220313T100000
END:DAYLIGHT
BEGIN:STANDARD
TZOFFSETFROM:-0700
TZOFFSETTO:-0800
TZNAME:PST
DTSTART:20221106T090000
END:STANDARD
BEGIN:DAYLIGHT
TZOFFSETFROM:-0800
TZOFFSETTO:-0700
TZNAME:PDT
DTSTART:20230312T100000
END:DAYLIGHT
BEGIN:STANDARD
TZOFFSETFROM:-0700
TZOFFSETTO:-0800
TZNAME:PST
DTSTART:20231105T090000
END:STANDARD
BEGIN:DAYLIGHT
TZOFFSETFROM:-0800
TZOFFSETTO:-0700
TZNAME:PDT
DTSTART:20240310T100000
END:DAYLIGHT
BEGIN:STANDARD
TZOFFSETFROM:-0700
TZOFFSETTO:-0800
TZNAME:PST
DTSTART:20241103T090000
END:STANDARD
END:VTIMEZONE
BEGIN:VEVENT
DTSTART;VALUE=DATE:20231006
DTEND;VALUE=DATE:20231008
DTSTAMP:20260422T151932
CREATED:20230216T220759Z
LAST-MODIFIED:20230216T220759Z
UID:2347-1696550400-1696723199@theyounguns.com
SUMMARY:The Blue Grotto
DESCRIPTION:
URL:https://theyounguns.com/event/the-blue-grotto-4/
LOCATION:The Blue Gator\, 441 Lawrence Ave.\, Kelowna\, BC\, V1Y 6L5\, Canada
END:VEVENT
BEGIN:VEVENT
DTSTART;VALUE=DATE:20231013
DTEND;VALUE=DATE:20231015
DTSTAMP:20260422T151932
CREATED:20230505T210918Z
LAST-MODIFIED:20230505T210918Z
UID:2379-1697155200-1697327999@theyounguns.com
SUMMARY:FFF - The Hub on Martin
DESCRIPTION:
URL:https://theyounguns.com/event/fff-the-hub-on-martin/
LOCATION:BC
END:VEVENT
BEGIN:VEVENT
DTSTART;VALUE=DATE:20231020
DTEND;VALUE=DATE:20231022
DTSTAMP:20260422T151932
CREATED:20230216T201049Z
LAST-MODIFIED:20230216T201049Z
UID:2341-1697760000-1697932799@theyounguns.com
SUMMARY:#Poundsign - The Blue Gator
DESCRIPTION:
URL:https://theyounguns.com/event/poundsign-the-blue-gator-3/
LOCATION:The Blue Gator\, 441 Lawrence Ave.\, Kelowna\, BC\, V1Y 6L5\, Canada
END:VEVENT
END:VCALENDAR