BEGIN:VCALENDAR
VERSION:2.0
PRODID:-//The Young&#039;uns - ECPv6.15.20//NONSGML v1.0//EN
CALSCALE:GREGORIAN
METHOD:PUBLISH
X-ORIGINAL-URL:https://theyounguns.com
X-WR-CALDESC:Events for The Young&#039;uns
REFRESH-INTERVAL;VALUE=DURATION:PT1H
X-Robots-Tag:noindex
X-PUBLISHED-TTL:PT1H
BEGIN:VTIMEZONE
TZID:America/Vancouver
BEGIN:DAYLIGHT
TZOFFSETFROM:-0800
TZOFFSETTO:-0700
TZNAME:PDT
DTSTART:20220313T100000
END:DAYLIGHT
BEGIN:STANDARD
TZOFFSETFROM:-0700
TZOFFSETTO:-0800
TZNAME:PST
DTSTART:20221106T090000
END:STANDARD
BEGIN:DAYLIGHT
TZOFFSETFROM:-0800
TZOFFSETTO:-0700
TZNAME:PDT
DTSTART:20230312T100000
END:DAYLIGHT
BEGIN:STANDARD
TZOFFSETFROM:-0700
TZOFFSETTO:-0800
TZNAME:PST
DTSTART:20231105T090000
END:STANDARD
BEGIN:DAYLIGHT
TZOFFSETFROM:-0800
TZOFFSETTO:-0700
TZNAME:PDT
DTSTART:20240310T100000
END:DAYLIGHT
BEGIN:STANDARD
TZOFFSETFROM:-0700
TZOFFSETTO:-0800
TZNAME:PST
DTSTART:20241103T090000
END:STANDARD
END:VTIMEZONE
BEGIN:VEVENT
DTSTART;VALUE=DATE:20230801
DTEND;VALUE=DATE:20230810
DTSTAMP:20260422T181642
CREATED:20230714T020710Z
LAST-MODIFIED:20230714T020710Z
UID:2414-1690848000-1691625599@theyounguns.com
SUMMARY:Vacation!
DESCRIPTION:
URL:https://theyounguns.com/event/vacation/
LOCATION:BC
END:VEVENT
BEGIN:VEVENT
DTSTART;TZID=America/Vancouver:20230810T180000
DTEND;TZID=America/Vancouver:20230810T193000
DTSTAMP:20260422T181642
CREATED:20230415T203026Z
LAST-MODIFIED:20230415T203026Z
UID:2366-1691690400-1691695800@theyounguns.com
SUMMARY:Downtown Sounds Vernon
DESCRIPTION:
URL:https://theyounguns.com/event/downtown-sounds-vernon/
LOCATION:BC
END:VEVENT
BEGIN:VEVENT
DTSTART;VALUE=DATE:20230811
DTEND;VALUE=DATE:20230812
DTSTAMP:20260422T181642
CREATED:20230505T210848Z
LAST-MODIFIED:20230505T210848Z
UID:2377-1691712000-1691798399@theyounguns.com
SUMMARY:The Hub on Martin
DESCRIPTION:
URL:https://theyounguns.com/event/the-hub-on-martin/
LOCATION:BC
END:VEVENT
BEGIN:VEVENT
DTSTART;TZID=America/Vancouver:20230812T193000
DTEND;TZID=America/Vancouver:20230812T223000
DTSTAMP:20260422T181642
CREATED:20221130T191200Z
LAST-MODIFIED:20221130T191200Z
UID:2312-1691868600-1691879400@theyounguns.com
SUMMARY:Private Party - Salmon Arm
DESCRIPTION:Ken Appledoorn
URL:https://theyounguns.com/event/private-party-salmon-arm/
LOCATION:BC
END:VEVENT
BEGIN:VEVENT
DTSTART;VALUE=DATE:20230813
DTEND;VALUE=DATE:20230814
DTSTAMP:20260422T181642
CREATED:20230507T212357Z
LAST-MODIFIED:20230507T212357Z
UID:2383-1691884800-1691971199@theyounguns.com
SUMMARY:Peachfest
DESCRIPTION:
URL:https://theyounguns.com/event/peachfest-2/
LOCATION:BC
END:VEVENT
BEGIN:VEVENT
DTSTART;VALUE=DATE:20230818
DTEND;VALUE=DATE:20230819
DTSTAMP:20260422T181642
CREATED:20230311T004923Z
LAST-MODIFIED:20230311T004923Z
UID:2355-1692316800-1692403199@theyounguns.com
SUMMARY:Oliver Park
DESCRIPTION:
URL:https://theyounguns.com/event/oliver-park/
LOCATION:BC
END:VEVENT
BEGIN:VEVENT
DTSTART;TZID=America/Vancouver:20230824T180000
DTEND;TZID=America/Vancouver:20230824T193000
DTSTAMP:20260422T181642
CREATED:20230415T203114Z
LAST-MODIFIED:20230415T203114Z
UID:2368-1692900000-1692905400@theyounguns.com
SUMMARY:#Poundsign Downtown Sounds Vernon
DESCRIPTION:
URL:https://theyounguns.com/event/poundsign-downtown-sounds-vernon/
LOCATION:BC
END:VEVENT
BEGIN:VEVENT
DTSTART;TZID=America/Vancouver:20230825T180000
DTEND;TZID=America/Vancouver:20230825T193000
DTSTAMP:20260422T181642
CREATED:20221130T190955Z
LAST-MODIFIED:20221130T190955Z
UID:2310-1692986400-1692991800@theyounguns.com
SUMMARY:Armstrong Music in the Park
DESCRIPTION:
URL:https://theyounguns.com/event/armstrong-music-in-the-park/
LOCATION:BC
END:VEVENT
BEGIN:VEVENT
DTSTART;TZID=America/Vancouver:20230826T080000
DTEND;TZID=America/Vancouver:20230826T170000
DTSTAMP:20260422T181642
CREATED:20230801T191020Z
LAST-MODIFIED:20230801T191020Z
UID:2442-1693036800-1693069200@theyounguns.com
SUMMARY:#Poundsign - Private Party
DESCRIPTION:
URL:https://theyounguns.com/event/poundsign-private-party/
LOCATION:BC
END:VEVENT
END:VCALENDAR