BEGIN:VCALENDAR
VERSION:2.0
PRODID:-//The Young&#039;uns - ECPv6.15.20//NONSGML v1.0//EN
CALSCALE:GREGORIAN
METHOD:PUBLISH
X-ORIGINAL-URL:https://theyounguns.com
X-WR-CALDESC:Events for The Young&#039;uns
REFRESH-INTERVAL;VALUE=DURATION:PT1H
X-Robots-Tag:noindex
X-PUBLISHED-TTL:PT1H
BEGIN:VTIMEZONE
TZID:America/Vancouver
BEGIN:DAYLIGHT
TZOFFSETFROM:-0800
TZOFFSETTO:-0700
TZNAME:PDT
DTSTART:20220313T100000
END:DAYLIGHT
BEGIN:STANDARD
TZOFFSETFROM:-0700
TZOFFSETTO:-0800
TZNAME:PST
DTSTART:20221106T090000
END:STANDARD
BEGIN:DAYLIGHT
TZOFFSETFROM:-0800
TZOFFSETTO:-0700
TZNAME:PDT
DTSTART:20230312T100000
END:DAYLIGHT
BEGIN:STANDARD
TZOFFSETFROM:-0700
TZOFFSETTO:-0800
TZNAME:PST
DTSTART:20231105T090000
END:STANDARD
BEGIN:DAYLIGHT
TZOFFSETFROM:-0800
TZOFFSETTO:-0700
TZNAME:PDT
DTSTART:20240310T100000
END:DAYLIGHT
BEGIN:STANDARD
TZOFFSETFROM:-0700
TZOFFSETTO:-0800
TZNAME:PST
DTSTART:20241103T090000
END:STANDARD
END:VTIMEZONE
BEGIN:VEVENT
DTSTART;TZID=America/Vancouver:20230602T080000
DTEND;TZID=America/Vancouver:20230603T170000
DTSTAMP:20260422T205543
CREATED:20221120T231632Z
LAST-MODIFIED:20221130T190513Z
UID:2300-1685692800-1685811600@theyounguns.com
SUMMARY:The Blue Grotto
DESCRIPTION:
URL:https://theyounguns.com/event/poundsign-the-blue-grotto/
LOCATION:BC
END:VEVENT
BEGIN:VEVENT
DTSTART;VALUE=DATE:20230609
DTEND;VALUE=DATE:20230611
DTSTAMP:20260422T205543
CREATED:20221120T231548Z
LAST-MODIFIED:20221120T231548Z
UID:2298-1686268800-1686441599@theyounguns.com
SUMMARY:O'Flannigans
DESCRIPTION:
URL:https://theyounguns.com/event/oflannigans-2/
LOCATION:O’Flannigan’s Pub\, 319 Queensway Ave.\, Kelowna\, BC\, V1Y 8E6\, Canada
END:VEVENT
BEGIN:VEVENT
DTSTART;TZID=America/Vancouver:20230616T160000
DTEND;TZID=America/Vancouver:20230616T200000
DTSTAMP:20260422T205543
CREATED:20230507T213145Z
LAST-MODIFIED:20230612T194304Z
UID:2396-1686931200-1686945600@theyounguns.com
SUMMARY:#Poundsign  - Farmstrong
DESCRIPTION:
URL:https://theyounguns.com/event/poundsign-farmstrong/
LOCATION:BC
END:VEVENT
BEGIN:VEVENT
DTSTART;VALUE=DATE:20230617
DTEND;VALUE=DATE:20230618
DTSTAMP:20260422T205543
CREATED:20230507T213014Z
LAST-MODIFIED:20230507T213014Z
UID:2393-1686960000-1687046399@theyounguns.com
SUMMARY:Gonzo Fest (Production Only)
DESCRIPTION:
URL:https://theyounguns.com/event/gonzo-fest-production-only/
LOCATION:BC
END:VEVENT
BEGIN:VEVENT
DTSTART;TZID=America/Vancouver:20230618T150000
DTEND;TZID=America/Vancouver:20230618T160000
DTSTAMP:20260422T205543
CREATED:20230612T194237Z
LAST-MODIFIED:20230612T194237Z
UID:2404-1687100400-1687104000@theyounguns.com
SUMMARY:Father's Day Car Show\, Kelowna
DESCRIPTION:
URL:https://theyounguns.com/event/fathers-day-car-show-kelowna/
LOCATION:BC
END:VEVENT
BEGIN:VEVENT
DTSTART;VALUE=DATE:20230623
DTEND;VALUE=DATE:20230624
DTSTAMP:20260422T205543
CREATED:20230510T163110Z
LAST-MODIFIED:20230510T163110Z
UID:2398-1687478400-1687564799@theyounguns.com
SUMMARY:#Poundsign - The Hub on Martin
DESCRIPTION:
URL:https://theyounguns.com/event/poundsign-the-hub-on-martin/
LOCATION:BC
END:VEVENT
BEGIN:VEVENT
DTSTART;VALUE=DATE:20230624
DTEND;VALUE=DATE:20230625
DTSTAMP:20260422T205543
CREATED:20220509T170941Z
LAST-MODIFIED:20220907T200255Z
UID:2116-1687564800-1687651199@theyounguns.com
SUMMARY:FFF - Wedding
DESCRIPTION:Laurel Packing House
URL:https://theyounguns.com/event/wedding-4/
LOCATION:Private Wedding\, N/A\, N/A\, N/A\, Canada
END:VEVENT
BEGIN:VEVENT
DTSTART;TZID=America/Vancouver:20230630T200000
DTEND;TZID=America/Vancouver:20230630T230000
DTSTAMP:20260422T205543
CREATED:20230424T193009Z
LAST-MODIFIED:20230626T234125Z
UID:2372-1688155200-1688166000@theyounguns.com
SUMMARY:Steel Horse Hideaway (Joe Rich)
DESCRIPTION:Tickets Inquire Dwight Tremblay \n10751 highway 33
URL:https://theyounguns.com/event/joe-rich/
LOCATION:BC
END:VEVENT
END:VCALENDAR