BEGIN:VCALENDAR
VERSION:2.0
PRODID:-//The Young&#039;uns - ECPv6.15.20//NONSGML v1.0//EN
CALSCALE:GREGORIAN
METHOD:PUBLISH
X-ORIGINAL-URL:https://theyounguns.com
X-WR-CALDESC:Events for The Young&#039;uns
REFRESH-INTERVAL;VALUE=DURATION:PT1H
X-Robots-Tag:noindex
X-PUBLISHED-TTL:PT1H
BEGIN:VTIMEZONE
TZID:America/Vancouver
BEGIN:DAYLIGHT
TZOFFSETFROM:-0800
TZOFFSETTO:-0700
TZNAME:PDT
DTSTART:20220313T100000
END:DAYLIGHT
BEGIN:STANDARD
TZOFFSETFROM:-0700
TZOFFSETTO:-0800
TZNAME:PST
DTSTART:20221106T090000
END:STANDARD
BEGIN:DAYLIGHT
TZOFFSETFROM:-0800
TZOFFSETTO:-0700
TZNAME:PDT
DTSTART:20230312T100000
END:DAYLIGHT
BEGIN:STANDARD
TZOFFSETFROM:-0700
TZOFFSETTO:-0800
TZNAME:PST
DTSTART:20231105T090000
END:STANDARD
BEGIN:DAYLIGHT
TZOFFSETFROM:-0800
TZOFFSETTO:-0700
TZNAME:PDT
DTSTART:20240310T100000
END:DAYLIGHT
BEGIN:STANDARD
TZOFFSETFROM:-0700
TZOFFSETTO:-0800
TZNAME:PST
DTSTART:20241103T090000
END:STANDARD
END:VTIMEZONE
BEGIN:VEVENT
DTSTART;VALUE=DATE:20230505
DTEND;VALUE=DATE:20230507
DTSTAMP:20260422T221627
CREATED:20220927T200005Z
LAST-MODIFIED:20220927T200005Z
UID:2260-1683244800-1683417599@theyounguns.com
SUMMARY:Whiski Jack's
DESCRIPTION:
URL:https://theyounguns.com/event/whiski-jacks-2/
LOCATION:BC
END:VEVENT
BEGIN:VEVENT
DTSTART;VALUE=DATE:20230512
DTEND;VALUE=DATE:20230514
DTSTAMP:20260422T221627
CREATED:20220927T212633Z
LAST-MODIFIED:20220927T212633Z
UID:2279-1683849600-1684022399@theyounguns.com
SUMMARY:#Poundsign - O'Flannigans
DESCRIPTION:
URL:https://theyounguns.com/event/poundsign-oflannigans-2/
LOCATION:BC
END:VEVENT
BEGIN:VEVENT
DTSTART;VALUE=DATE:20230526
DTEND;VALUE=DATE:20230527
DTSTAMP:20260422T221627
CREATED:20221102T210257Z
LAST-MODIFIED:20221102T210257Z
UID:2287-1685059200-1685145599@theyounguns.com
SUMMARY:BC Cattlemans AGM
DESCRIPTION:Private Event Kal Tire Place
URL:https://theyounguns.com/event/bc-cattlemans-agm/
LOCATION:Private Event\, N/A\, N/A\, Canada
END:VEVENT
BEGIN:VEVENT
DTSTART;VALUE=DATE:20230527
DTEND;VALUE=DATE:20230528
DTSTAMP:20260422T221627
CREATED:20220929T185355Z
LAST-MODIFIED:20220929T185355Z
UID:2284-1685145600-1685231999@theyounguns.com
SUMMARY:Wedding
DESCRIPTION:Coldstream
URL:https://theyounguns.com/event/wedding-3/
LOCATION:BC
END:VEVENT
END:VCALENDAR